BEGIN:VCALENDAR
VERSION:2.0
PRODID:-//Odisha Construction Corporation Ltd.- OCCL - ECPv5.1.6//NONSGML v1.0//EN
CALSCALE:GREGORIAN
METHOD:PUBLISH
X-WR-CALNAME:Odisha Construction Corporation Ltd.- OCCL
X-ORIGINAL-URL:https://odishaconstruction.com
X-WR-CALDESC:Events for Odisha Construction Corporation Ltd.- OCCL
BEGIN:VTIMEZONE
TZID:UTC
BEGIN:STANDARD
TZOFFSETFROM:+0000
TZOFFSETTO:+0000
TZNAME:UTC
DTSTART:20210101T000000
END:STANDARD
END:VTIMEZONE
BEGIN:VEVENT
DTSTART;TZID=UTC:20210801T010000
DTEND;TZID=UTC:20210803T000000
DTSTAMP:20260423T054353
CREATED:20191023T082550Z
LAST-MODIFIED:20191023T082550Z
UID:253-1627779600-1627948800@odishaconstruction.com
SUMMARY:Women education empowerment
DESCRIPTION:Well\, I got better. Ah\, now we see the violence inherent in the system! The swallow may fly south with the sun\, and the house martin or the plover may seek warmer climes in winter\, yet these are not strangers to our land. It’s only a model. It’s only a model.
URL:https://odishaconstruction.com/event/women-education-empowerment/
LOCATION:Party Haus\, 330 S Broadway Unit 602\, Los Angelos\, CA\, 90013\, united States
CATEGORIES:Meetup,Seminars
ORGANIZER;CN="Famous%20Amos":MAILTO:cookies@aol.com
END:VEVENT
END:VCALENDAR