BEGIN:VCALENDAR
VERSION:2.0
PRODID:-//Odisha Construction Corporation Ltd.- OCCL - ECPv5.1.6//NONSGML v1.0//EN
CALSCALE:GREGORIAN
METHOD:PUBLISH
X-WR-CALNAME:Odisha Construction Corporation Ltd.- OCCL
X-ORIGINAL-URL:https://odishaconstruction.com
X-WR-CALDESC:Events for Odisha Construction Corporation Ltd.- OCCL
BEGIN:VTIMEZONE
TZID:UTC
BEGIN:STANDARD
TZOFFSETFROM:+0000
TZOFFSETTO:+0000
TZNAME:UTC
DTSTART:20200101T000000
END:STANDARD
END:VTIMEZONE
BEGIN:VEVENT
DTSTART;TZID=UTC:20200704T133000
DTEND;TZID=UTC:20200910T133000
DTSTAMP:20260421T085930
CREATED:20191023T082550Z
LAST-MODIFIED:20191023T082550Z
UID:251-1593869400-1599744600@odishaconstruction.com
SUMMARY:Meeting to change education system NASA
DESCRIPTION:I have traced the Rebel spies to her. Now she is my only link to finding their secret base. What?! I care. So\, what do you think of her\, Han? The Force is strong with this one. I have you now. But with the blast shield down\, I can’t even see! How am I supposed to fight? Red Five standing by.
URL:https://odishaconstruction.com/event/board-meeting/
LOCATION:Musee D’Orsay\, 1 Rue de la Légion d'Honneur\, Paris\, 75007\, France
CATEGORIES:Meeting
END:VEVENT
END:VCALENDAR